BEGIN:VCALENDAR
VERSION:2.0
PRODID:-//PGA National Czech Republic - ECPv6.15.18//NONSGML v1.0//EN
CALSCALE:GREGORIAN
METHOD:PUBLISH
X-WR-CALNAME:PGA National Czech Republic
X-ORIGINAL-URL:https://www.oakspga.cz
X-WR-CALDESC:Events for PGA National Czech Republic
REFRESH-INTERVAL;VALUE=DURATION:PT1H
X-Robots-Tag:noindex
X-PUBLISHED-TTL:PT1H
BEGIN:VTIMEZONE
TZID:UTC
BEGIN:STANDARD
TZOFFSETFROM:+0000
TZOFFSETTO:+0000
TZNAME:UTC
DTSTART:20240101T000000
END:STANDARD
END:VTIMEZONE
BEGIN:VEVENT
DTSTART;TZID=UTC:20250803T080000
DTEND;TZID=UTC:20250803T170000
DTSTAMP:20260421T121633
CREATED:20250624T110532Z
LAST-MODIFIED:20250624T120105Z
UID:3650-1754208000-1754240400@www.oakspga.cz
SUMMARY:MEMBERS GUEST INVITATIONAL
DESCRIPTION:
URL:https://www.oakspga.cz/event/members-opening/
END:VEVENT
BEGIN:VEVENT
DTSTART;TZID=UTC:20250821T080000
DTEND;TZID=UTC:20250821T153000
DTSTAMP:20260421T121633
CREATED:20250516T094650Z
LAST-MODIFIED:20250516T094650Z
UID:3554-1755763200-1755790200@www.oakspga.cz
SUMMARY:Private Tournament – Course closed
DESCRIPTION:
URL:https://www.oakspga.cz/event/private-tournament-course-closed-4/
END:VEVENT
BEGIN:VEVENT
DTSTART;TZID=UTC:20250828T080000
DTEND;TZID=UTC:20250828T153000
DTSTAMP:20260421T121633
CREATED:20250516T094744Z
LAST-MODIFIED:20250516T094744Z
UID:3556-1756368000-1756395000@www.oakspga.cz
SUMMARY:Private Tournament – Course closed
DESCRIPTION:
URL:https://www.oakspga.cz/event/private-tournament-course-closed-5/
END:VEVENT
BEGIN:VEVENT
DTSTART;TZID=UTC:20250830T080000
DTEND;TZID=UTC:20250830T170000
DTSTAMP:20260421T121633
CREATED:20250717T123920Z
LAST-MODIFIED:20250717T123920Z
UID:3689-1756540800-1756573200@www.oakspga.cz
SUMMARY:RACE TO LAS COLINAS PGANCR OPEN
DESCRIPTION:
URL:https://www.oakspga.cz/event/race-to-las-colinas-pgancr-open/
END:VEVENT
END:VCALENDAR